BEGIN:VCALENDAR
VERSION:2.0
PRODID:-//Floyd&#039;s Cannabis - ECPv6.15.17.1//NONSGML v1.0//EN
CALSCALE:GREGORIAN
METHOD:PUBLISH
X-WR-CALNAME:Floyd&#039;s Cannabis
X-ORIGINAL-URL:https://www.floyds-cannabis.com
X-WR-CALDESC:Events for Floyd&#039;s Cannabis
REFRESH-INTERVAL;VALUE=DURATION:PT1H
X-Robots-Tag:noindex
X-PUBLISHED-TTL:PT1H
BEGIN:VTIMEZONE
TZID:America/Los_Angeles
BEGIN:DAYLIGHT
TZOFFSETFROM:-0800
TZOFFSETTO:-0700
TZNAME:PDT
DTSTART:20250309T100000
END:DAYLIGHT
BEGIN:STANDARD
TZOFFSETFROM:-0700
TZOFFSETTO:-0800
TZNAME:PST
DTSTART:20251102T090000
END:STANDARD
BEGIN:DAYLIGHT
TZOFFSETFROM:-0800
TZOFFSETTO:-0700
TZNAME:PDT
DTSTART:20260308T100000
END:DAYLIGHT
BEGIN:STANDARD
TZOFFSETFROM:-0700
TZOFFSETTO:-0800
TZNAME:PST
DTSTART:20261101T090000
END:STANDARD
BEGIN:DAYLIGHT
TZOFFSETFROM:-0800
TZOFFSETTO:-0700
TZNAME:PDT
DTSTART:20270314T100000
END:DAYLIGHT
BEGIN:STANDARD
TZOFFSETFROM:-0700
TZOFFSETTO:-0800
TZNAME:PST
DTSTART:20271107T090000
END:STANDARD
END:VTIMEZONE
BEGIN:VEVENT
DTSTART;TZID=America/Los_Angeles:20260515T120000
DTEND;TZID=America/Los_Angeles:20260515T150000
DTSTAMP:20260423T101646
CREATED:20260422T222053Z
LAST-MODIFIED:20260422T222053Z
UID:748340-1778846400-1778857200@www.floyds-cannabis.com
SUMMARY:Exciting Craft Spark Industries Vendor Day Mount Vernon – Floyd’s 12–3PM
DESCRIPTION:Spark Industries Vendor Day Mount Vernon at Floyd’s\nSpark Industries vendor day Mount Vernon is happening at Floyd’s on May 15\, 2026 from 12:00PM to 3:00PM. This in-store event offers a welcoming and informative opportunity to connect with a cannabis brand focused on cultivation precision\, consistency\, and quality. \nAt Floyd’s Mount Vernon\, we aim to create a comfortable and approachable environment where guests can explore products\, ask questions\, and feel confident in their experience. This Spark Industries vendor day Mount Vernon is designed to bring guests closer to the people and processes behind the products available in-store. \n\n \n  \nAbout Spark Industries\nSpark Industries is dedicated to producing high-quality cannabis flower with a strong focus on consistency\, cannabinoid-rich profiles\, and flavor. Their approach combines modern technology with hands-on cultivation practices to maintain a controlled and consistent growing environment. \nUsing a state-of-the-art SCADA system\, Spark Industries is able to monitor environmental conditions throughout every stage of the plant lifecycle. This system allows their grow team to track key variables and make precise adjustments as needed\, helping maintain stability across each harvest. \nWhile technology plays an important role\, their process also relies on experienced growers who oversee plant development closely. This balance of data-driven monitoring and hands-on attention allows Spark Industries to maintain a consistent approach to cultivation. \nDuring this Spark Industries vendor day Mount Vernon\, guests will have the opportunity to learn more about how their cultivation methods contribute to product consistency and quality. \n\nMeet the Team and Learn More\nA highlight of this Spark Industries vendor day Mount Vernon is the chance to meet brand representatives in person. Guests are encouraged to ask questions\, learn about cultivation practices\, and gain insight into how products are developed. \nThis event creates a relaxed and informative setting where conversations come naturally. Whether you are interested in how cannabis is grown or want to better understand product differences\, this vendor day offers a valuable opportunity to learn directly from the brand. \nThe Floyd’s team will also be available to guide your visit and provide general product information in a friendly and professional way. \n\nExplore Products in a Comfortable Setting\nThis Spark Industries vendor day Mount Vernon is designed to give guests time to explore at their own pace. You can browse products\, ask questions\, and take time to understand what’s available without pressure. \nEvents like this help create a more engaging retail experience where guests can feel informed and confident. By connecting directly with both the brand and the Floyd’s team\, you gain a better understanding of what goes into the products on the shelf. \nWhether you are familiar with Spark Industries or learning about them for the first time\, this event offers a welcoming environment to explore and learn. \n\nSpark Industries Vendor Day Mount Vernon Experience\nAttending a Spark Industries vendor day Mount Vernon is more than just a visit—it’s an opportunity to connect with a cultivation-focused brand\, learn about their approach\, and enjoy a more personal in-store experience. \nIf you’re interested in more events like this\, visit our Floyd’s Mount Vernon events page to stay updated on upcoming vendor days and in-store experiences. \n\nLearn More About Cannabis in Washington\nTo better understand cannabis laws and guidelines in Washington State\, you can visit: \n\nWashington State Liquor and Cannabis Board:https://lcb.wa.gov/mj2015/marijuana-laws-and-rules\nWashington State Department of Health:https://doh.wa.gov/you-and-your-family/cannabis\n\n\nEvent Details\nEvent: Spark Industries Vendor Day \nLocation: Floyd’s Mount VernonDate: May 15\, 2026Time: 12:00PM – 3:00PM \nThis event is open to adults 21 and over with valid ID. Cannabis products may only be purchased and possessed by adults 21 years of age or older in accordance with Washington State law.
URL:https://www.floyds-cannabis.com/event/spark-vendor-day-mount-vernon/
LOCATION:Mount Vernon\, 17929 WA-536 Ste B\, Mount Vernon\, WA\, 98273\, United States
CATEGORIES:Mount Vernon
END:VEVENT
BEGIN:VEVENT
DTSTART;TZID=America/Los_Angeles:20260515T140000
DTEND;TZID=America/Los_Angeles:20260515T160000
DTSTAMP:20260423T101646
CREATED:20260422T223036Z
LAST-MODIFIED:20260422T223036Z
UID:748902-1778853600-1778860800@www.floyds-cannabis.com
SUMMARY:Exciting Premium MFused Vendor Day Mount Vernon – Floyd’s 2–4PM
DESCRIPTION:MFused Vendor Day Mount Vernon at Floyd’s\n \nMFused vendor day Mount Vernon is happening at Floyd’s on May 15\, 2026 from 2:00PM to 4:00PM. This in-store event offers a welcoming and informative opportunity to connect with a cannabis brand known for its focus on innovation\, consistency\, and device technology. \nAt Floyd’s Mount Vernon\, we aim to create a comfortable and approachable environment where guests can explore products\, ask questions\, and feel confident in their experience. This MFused vendor day Mount Vernon is designed to bring you closer to the brand\, giving you insight into how their products are designed and how their devices are tailored for performance. \n\nAbout MFused\nMFused is recognized for developing customized cannabis devices designed to pair specifically with their oil products. Their approach focuses on creating a consistent and controlled experience by fine-tuning each device to match the characteristics of the oil it is designed to use. \nTheir Spark device includes features such as a cold start function to help reduce clogging and temperature control options that allow for a more customized session. These features are built into a sleek\, discreet design that also includes USB-C fast charging and optimized power management for device longevity. \nBy combining thoughtful engineering with product-specific design\, MFused aims to provide a consistent and reliable experience across their lineup. During this MFused vendor day Mount Vernon\, guests can learn more about how their devices are developed and what sets them apart. \n\nMeet the Team and Learn More\nSuper Fog ION\nOne of the key highlights of this MFused vendor day Mount Vernon is the opportunity to connect directly with brand representatives. Guests are encouraged to ask questions\, learn about device functionality\, and better understand how MFused approaches product design. \nThis event creates a relaxed and informative setting where conversations come naturally. Whether you are curious about how devices work\, how oil compatibility is managed\, or simply want to learn more about the brand\, this vendor day offers a valuable opportunity to gain insight directly from the source. \nThe Floyd’s team will also be available throughout the event to help guide your visit and provide general product information in a friendly and professional way. \n\nExplore Devices and Products in a Comfortable Setting\n \nThis MFused vendor day Mount Vernon is designed to give guests time to explore at their own pace. You can browse\, ask questions\, and learn more about what’s available without pressure. \nEvents like this create a more engaging retail experience where guests can feel informed and confident. By connecting directly with both the brand and the Floyd’s team\, you gain a better understanding of how products are designed and how they function together. \nWhether you are already familiar with MFused or just discovering them\, this event offers a welcoming and informative environment. \n\nMFused Vendor Day Mount Vernon Experience\nAttending an MFused vendor day Mount Vernon is more than just a visit—it’s an opportunity to connect with a technology-driven cannabis brand\, learn about product design\, and enjoy a more personal in-store experience. \nIf you’re interested in more events like this\, visit our Floyd’s Mount Vernon events page to stay updated on upcoming vendor days and in-store experiences. \n\nLearn More About Cannabis in Washington\nTo better understand cannabis laws and guidelines in Washington State\, you can visit: \n\nWashington State Liquor and Cannabis Board:https://lcb.wa.gov/mj2015/marijuana-laws-and-rules\nWashington State Department of Health:https://doh.wa.gov/you-and-your-family/cannabis\n\n\nEvent Details\nEvent: MFused Vendor DayLocation: Floyd’s Mount VernonDate: May 15\, 2026Time: 2:00PM – 4:00PM \nThis event is open to adults 21 and over with valid ID. Cannabis products may only be purchased and possessed by adults 21 years of age or older in accordance with Washington State law.
URL:https://www.floyds-cannabis.com/event/mfused-vendor-day-mount-vernon/
LOCATION:Mount Vernon\, 17929 WA-536 Ste B\, Mount Vernon\, WA\, 98273\, United States
CATEGORIES:Mount Vernon
END:VEVENT
BEGIN:VEVENT
DTSTART;TZID=America/Los_Angeles:20260515T173000
DTEND;TZID=America/Los_Angeles:20260515T193000
DTSTAMP:20260423T101646
CREATED:20260410T175810Z
LAST-MODIFIED:20260410T175810Z
UID:649409-1778866200-1778873400@www.floyds-cannabis.com
SUMMARY:Super Sungrown Vendor Day @ Floyd's Pullman on May 15th!!
DESCRIPTION:Please join us for Sungrown Vendor Day on May 15th!!\n  \nPlease accept our invitation for a relaxed and engaging Floyds Pullman Sungrown Vendor Day at Floyd’s as we host a Sungrown Vendor Day from 5:30 PM to 7:30 PM. This in-store evening event is a great opportunity to connect with a highly renowned Washington cannabis farm\, explore products\, and enjoy a welcoming\, community-focused experience. \nAt Floyds Pullman\, we aim to create a space where guests feel comfortable\, informed\, and supported in their cannabis experience. Whether you’re a regular or visiting for the first time\, this Sungrown Vendor Day offers a chance to learn more about the products we carry and the people behind them. \n  \nYou may know them best as Full Spec\, Thrills\, Drops & PICC! With their array of brands\, there’s always an option for everyone!! \n \n  \n  \n  \n  \n  \n  \n“In an era where simplicity and elegance define innovation\, our single-source extraction process emerges as a beacon\, masterfully harmonizing the full spectrum of the cannabis plant. We harness all of the natural terpenes\, each with its unique characteristics\, to deliver an unparalleled vaping experience. \n“We feel like this is the technological edge of cannabis…The product experience is really kind of paradigm-shifting for a cartridge.” Marcus Naramore\, CRO \nFull Spec presents a curated suite of terpene-rich concentrates that champion the plant in its entirety\, embracing all it has to offer. Our commitment to authenticity is unwavering. Full Spec stands as a testament to single-source dedication: every element that enters our extraction process is nurtured in our farms. It’s not just about extraction; it’s a journey that begins the moment our plants touch the soil. \nFull Spec. We control the full spectrum.” \n  \n  \n  \nSungrown Vendor Day Event Details\nEvent: Floyds Pullman Vendor Day with Sungrown!Location: Floyd’s PullmanDate: May 15thTime: 5:30-7:30 PM \nThis event is open to adults 21+ only with valid ID. Cannabis products may only be purchased and possessed by adults 21 years of age or older in accordance with Washington State law.
URL:https://www.floyds-cannabis.com/event/sungrown-vendor-day-floyds-pullman/
LOCATION:Pullman\, 5952 Airport Rd\, Pullman\, WA\, 99163\, United States
END:VEVENT
END:VCALENDAR