BEGIN:VCALENDAR
VERSION:2.0
PRODID:-//Floyd&#039;s Cannabis - ECPv6.15.17.1//NONSGML v1.0//EN
CALSCALE:GREGORIAN
METHOD:PUBLISH
X-WR-CALNAME:Floyd&#039;s Cannabis
X-ORIGINAL-URL:https://www.floyds-cannabis.com
X-WR-CALDESC:Events for Floyd&#039;s Cannabis
REFRESH-INTERVAL;VALUE=DURATION:PT1H
X-Robots-Tag:noindex
X-PUBLISHED-TTL:PT1H
BEGIN:VTIMEZONE
TZID:America/Los_Angeles
BEGIN:DAYLIGHT
TZOFFSETFROM:-0800
TZOFFSETTO:-0700
TZNAME:PDT
DTSTART:20250309T100000
END:DAYLIGHT
BEGIN:STANDARD
TZOFFSETFROM:-0700
TZOFFSETTO:-0800
TZNAME:PST
DTSTART:20251102T090000
END:STANDARD
BEGIN:DAYLIGHT
TZOFFSETFROM:-0800
TZOFFSETTO:-0700
TZNAME:PDT
DTSTART:20260308T100000
END:DAYLIGHT
BEGIN:STANDARD
TZOFFSETFROM:-0700
TZOFFSETTO:-0800
TZNAME:PST
DTSTART:20261101T090000
END:STANDARD
BEGIN:DAYLIGHT
TZOFFSETFROM:-0800
TZOFFSETTO:-0700
TZNAME:PDT
DTSTART:20270314T100000
END:DAYLIGHT
BEGIN:STANDARD
TZOFFSETFROM:-0700
TZOFFSETTO:-0800
TZNAME:PST
DTSTART:20271107T090000
END:STANDARD
END:VTIMEZONE
BEGIN:VTIMEZONE
TZID:America/New_York
BEGIN:DAYLIGHT
TZOFFSETFROM:-0500
TZOFFSETTO:-0400
TZNAME:EDT
DTSTART:20240310T070000
END:DAYLIGHT
BEGIN:STANDARD
TZOFFSETFROM:-0400
TZOFFSETTO:-0500
TZNAME:EST
DTSTART:20241103T060000
END:STANDARD
BEGIN:DAYLIGHT
TZOFFSETFROM:-0500
TZOFFSETTO:-0400
TZNAME:EDT
DTSTART:20250309T070000
END:DAYLIGHT
BEGIN:STANDARD
TZOFFSETFROM:-0400
TZOFFSETTO:-0500
TZNAME:EST
DTSTART:20251102T060000
END:STANDARD
BEGIN:DAYLIGHT
TZOFFSETFROM:-0500
TZOFFSETTO:-0400
TZNAME:EDT
DTSTART:20260308T070000
END:DAYLIGHT
BEGIN:STANDARD
TZOFFSETFROM:-0400
TZOFFSETTO:-0500
TZNAME:EST
DTSTART:20261101T060000
END:STANDARD
BEGIN:DAYLIGHT
TZOFFSETFROM:-0500
TZOFFSETTO:-0400
TZNAME:EDT
DTSTART:20270314T070000
END:DAYLIGHT
BEGIN:STANDARD
TZOFFSETFROM:-0400
TZOFFSETTO:-0500
TZNAME:EST
DTSTART:20271107T060000
END:STANDARD
END:VTIMEZONE
BEGIN:VEVENT
DTSTART;TZID=America/Los_Angeles:20260218T140000
DTEND;TZID=America/Los_Angeles:20260218T160000
DTSTAMP:20260423T213258
CREATED:20260206T195915Z
LAST-MODIFIED:20260206T195915Z
UID:221995-1771423200-1771430400@www.floyds-cannabis.com
SUMMARY:Viking Cannabis Vendor Day Burlington at Floyd’s Cannabis
DESCRIPTION:Viking Cannabis Vendor Day Burlington at Floyd’s Cannabis\nViking Cannabis is coming to Floyd’s Cannabis Burlington for a special Vendor Day on Wednesday\, February 18\, 2026 from 2:00–4:00 PM. This in-store event gives customers the opportunity to connect directly with the Viking team\, learn more about their cannabis offerings\, and explore the brand during a dedicated vendor experience in Burlington. \nViking Cannabis Vendor Day Burlington is designed for customers who enjoy learning about the products they purchase and value insight from the people behind the brand. Whether you’re already familiar with Viking or discovering them for the first time\, this event is a great way to engage and ask questions in a relaxed\, informative setting. \n\nWhat to Expect at Viking Cannabis Vendor Day Burlington \nDuring Viking Cannabis Vendor Day Burlington\, Viking representatives will be on site to talk about their products\, answer questions\, and provide insight into what makes their lineup stand out. Vendor days at Floyd’s Cannabis allow customers to explore brands beyond the shelf\, creating a more informed and personalized shopping experience. \nThis event is ideal for customers who enjoy learning about cultivation practices\, product consistency\, and brand philosophy. Stop by the vendor table while shopping to connect directly with the Viking team and discover more about their approach to cannabis. \n\nExplore Viking Cannabis Products at Floyd’s Cannabis Burlington\n \nViking Cannabis Vendor Day Burlington offers customers a chance to explore Viking products while learning directly from the brand. Viking is known for delivering consistent quality and a thoughtful approach to cannabis production. \nVendor days like this provide valuable insight into how products are made\, how to choose the right option for your preferences\, and what differentiates one brand from another. Customers are encouraged to ask questions and take advantage of the opportunity to engage with Viking representatives during this limited-time event. \n\nWhy Attend This Vendor Day at Floyd’s Cannabis Burlington\n \nFloyd’s Cannabis Co. in Burlington regularly hosts vendor days to connect customers with trusted cannabis brands. Viking Cannabis Vendor Day Burlington is a great opportunity to learn directly from the source and stay informed about brands available in-store. \nIf you’re shopping at Floyd’s Cannabis on February 18\, stopping by during Viking Vendor Day Burlington is an easy way to enhance your visit\, learn something new\, and connect with the brand behind the products. \n\nEvent Details\n \nEvent: Viking Cannabis Vendor Day BurlingtonDate: Wednesday\, February 18\, 2026Time: 2:00 PM – 4:00 PMLocation: Floyd’s Cannabis Co. – Burlington
URL:https://www.floyds-cannabis.com/event/viking-cannabis-vendor-day-burlington/
LOCATION:Burlington\, 735 S Burlington Blvd\, Burlington\, WA\, 98233\, United States
CATEGORIES:Burlington
END:VEVENT
BEGIN:VEVENT
DTSTART;TZID=America/Los_Angeles:20260206T000000
DTEND;TZID=America/Los_Angeles:20260206T000000
DTSTAMP:20260423T213258
CREATED:20260206T180706Z
LAST-MODIFIED:20260206T181356Z
UID:210722-1770336000-1770336000@www.floyds-cannabis.com
SUMMARY:Fire Bros Vendor Day Burlington – New Pearl Vape Launch | 2/10
DESCRIPTION:Fire Bros Vendor Day Burlington at Floyd’s Cannabis\nFire Bros Vendor Day Burlington is happening at Floyd’s Cannabis Co. on February 10 from 3:00–6:00 PM\, and this event marks an exciting moment for fans of premium cannabis innovation. Whether you’re already familiar with Fire Bros or discovering the brand for the first time\, this vendor day is your opportunity to explore one of Washington’s most respected vape and concentrate producers — right here in Burlington. \nThis Fire Bros Vendor Day Burlington event brings brand education\, product insight\, and a first look at what’s new directly to the shop floor. Fire Bros representatives will be on site to answer questions\, walk customers through their lineup\, and share what sets their products apart in an increasingly crowded market. \n\nWhat to Expect at Fire Bros Vendor Day Burlington\nThe highlight of Fire Bros Vendor Day Burlington is the introduction of The Pearl\, the brand’s newest premium extension of their All-In-One disposable vape line. Designed with best-in-class\, single-source cultivars and genetics\, The Pearl represents the next evolution of Fire Bros’ commitment to quality and consistency. \nEach unit is produced using live resin that is purged low and slow to preserve terpene integrity\, flavor clarity\, and smooth performance. Extensive quality-control testing ensures every draw delivers a reliable and elevated experience. During this vendor day\, customers can learn about the exclusive soft launch of The Pearl\, which initially debuts as a 3-pack housed in a custom Pelican case. \n\nExplore Fire Bros Products at Floyd’s Cannabis Burlington\nIn addition to The Pearl\, Fire Bros Vendor Day Burlington offers a chance to explore the brand’s broader product lineup\, including their trusted disposable vapes and live resin offerings. Fire Bros has earned a reputation for precision processing\, thoughtful strain selection\, and consistency across batches — making them a favorite among both seasoned consumers and newcomers alike. \nVendor days like this are designed for education and engagement. Customers can ask questions\, learn about extraction methods\, terpene profiles\, and genetics\, and gain a deeper understanding of how Fire Bros approaches cannabis technology and product development. \n\nWhy Attend This Vendor Day at Floyd’s Cannabis?\nFloyd’s Cannabis Co. in Burlington regularly hosts vendor days to connect customers with the brands behind the products they love. Fire Bros Vendor Day Burlington is especially exciting because it aligns with the launch of a brand-new product line and reflects Fire Bros’ continued innovation in the vape space. \nIf you’re curious about premium live resin\, high-quality disposable technology\, or simply want to stay up to date with new releases hitting the shelves\, this event is worth stopping by. \n\nEvent Details\n\n\nEvent: Fire Bros Vendor Day Burlington \n\n\nDate: February 10 \n\n\nTime: 3:00 PM – 6:00 PM \n\n\nLocation: Floyd’s Cannabis Co. – Burlington \n\n\n  \nFrequently Asked Questions About Fire Bros Vendor Day Burlington\nDo I need a ticket to attend Fire Bros Vendor Day Burlington?No ticket is required. Fire Bros Vendor Day Burlington is free to attend during the scheduled time at Floyd’s Cannabis Co. Customers simply need to be 21+ with valid ID. \nWill Fire Bros representatives be available to answer questions?Yes. Fire Bros team members will be on site throughout the event to talk about products\, explain live resin processing\, and share details about their newest release\, The Pearl. \nCan I purchase Fire Bros products during the event?Yes. Fire Bros products\, including select vape offerings\, will be available for purchase while supplies last. Availability may vary\, so arriving early is recommended. \nWhere is Floyd’s Cannabis Burlington located?Floyd’s Cannabis Co. Burlington is conveniently located for Skagit County customers and regularly hosts vendor events to showcase new brands and product launches.
URL:https://www.floyds-cannabis.com/event/fire-bros-vendor-day-burlington/
LOCATION:WA
CATEGORIES:Burlington
END:VEVENT
BEGIN:VEVENT
DTSTART;TZID=America/New_York:20260130T120000
DTEND;TZID=America/New_York:20260130T150000
DTSTAMP:20260423T213258
CREATED:20260105T194019Z
LAST-MODIFIED:20260105T194019Z
UID:25203-1769774400-1769785200@www.floyds-cannabis.com
SUMMARY:Plaid Jacket Vendor Day - Burlington
DESCRIPTION:Join Floyd’s Cannabis Co. Burlington on January 30 from 12–3 PM for a dual vendor day with Plaid Jacket and Flipside. Meet the teams\, discover their standout cannabis products\, and take advantage of event-only deals. \n 
URL:https://www.floyds-cannabis.com/event/plaid-jacket-vendor-day-burlington/
LOCATION:Burlington\, 735 S Burlington Blvd\, Burlington\, WA\, 98233\, United States
CATEGORIES:Burlington
END:VEVENT
BEGIN:VEVENT
DTSTART;TZID=America/New_York:20260123T150000
DTEND;TZID=America/New_York:20260123T170000
DTSTAMP:20260423T213258
CREATED:20260105T193756Z
LAST-MODIFIED:20260105T193756Z
UID:25201-1769180400-1769187600@www.floyds-cannabis.com
SUMMARY:Fine Detail Gateway Vendor day - Burlington
DESCRIPTION:Visit Floyd’s Cannabis Co. Burlington on January 23 from 3–5 PM for a Fine Detail Gateway vendor day. Meet the team\, learn about their craft cannabis offerings\, and take advantage of event-only deals.
URL:https://www.floyds-cannabis.com/event/fine-detail-gateway-vendor-day-burlington/
LOCATION:Burlington\, 735 S Burlington Blvd\, Burlington\, WA\, 98233\, United States
CATEGORIES:Burlington
END:VEVENT
BEGIN:VEVENT
DTSTART;TZID=America/New_York:20260116T150000
DTEND;TZID=America/New_York:20260116T170000
DTSTAMP:20260423T213258
CREATED:20260105T193639Z
LAST-MODIFIED:20260105T193639Z
UID:25199-1768575600-1768582800@www.floyds-cannabis.com
SUMMARY:Skagit Organics Vendor Day - Burlington
DESCRIPTION:Join Floyd’s Cannabis Co. Burlington on January 16 from 3–5 PM for a Skagit Organics vendor day. Meet the team\, learn about their tinctures and oils\, and enjoy event-day specials while you shop.
URL:https://www.floyds-cannabis.com/event/skagit-organics-vendor-day-burlington/
LOCATION:Burlington\, 735 S Burlington Blvd\, Burlington\, WA\, 98233\, United States
CATEGORIES:Burlington
END:VEVENT
BEGIN:VEVENT
DTSTART;TZID=America/New_York:20260115T150000
DTEND;TZID=America/New_York:20260115T170000
DTSTAMP:20260423T213258
CREATED:20260105T195132Z
LAST-MODIFIED:20260105T195132Z
UID:25212-1768489200-1768496400@www.floyds-cannabis.com
SUMMARY:Momma Chan Vendor Day - Burlington
DESCRIPTION:Join Floyd’s Cannabis Co. Burlington on January 15 from 3–6 PM for a MOMMA Chan vendor day. Meet the team\, discover their infused products\, and take advantage of event-only deals while you shop.
URL:https://www.floyds-cannabis.com/event/momma-chan-vendor-day-burlington/
LOCATION:Burlington\, 735 S Burlington Blvd\, Burlington\, WA\, 98233\, United States
CATEGORIES:Burlington
ATTACH;FMTTYPE=image/webp:https://www.floyds-cannabis.com/wp-content/uploads/2026/01/LOGO2.webp
END:VEVENT
BEGIN:VEVENT
DTSTART;TZID=America/New_York:20260112T140000
DTEND;TZID=America/New_York:20260112T160000
DTSTAMP:20260423T213258
CREATED:20260105T204438Z
LAST-MODIFIED:20260105T204438Z
UID:25255-1768226400-1768233600@www.floyds-cannabis.com
SUMMARY:Wyld Vendor Day - Burlington
DESCRIPTION:Stop by Floyd’s Cannabis Co. Burlington on January 12 from 2–5 PM for a Wyld vendor day. Meet the team\, discover customer-favorite edibles\, and take advantage of event-only deals.
URL:https://www.floyds-cannabis.com/event/wyld-vendor-day-burlington/
LOCATION:Burlington\, 735 S Burlington Blvd\, Burlington\, WA\, 98233\, United States
CATEGORIES:Burlington
END:VEVENT
BEGIN:VEVENT
DTSTART;TZID=America/New_York:20260109T140000
DTEND;TZID=America/New_York:20260109T150000
DTSTAMP:20260423T213258
CREATED:20260105T193231Z
LAST-MODIFIED:20260105T193512Z
UID:25194-1767967200-1767970800@www.floyds-cannabis.com
SUMMARY:Svin Gardens Vendor Day - Burlington
DESCRIPTION:Join us at Floyd’s Cannabis Co. Burlington on January 9 from 2–4 PM for a special Svin Gardens vendor day. Meet the team\, discover their standout flower\, and enjoy event-only specials. \n 
URL:https://www.floyds-cannabis.com/event/svin-gardens-vendor-day-burlington/
LOCATION:Burlington\, 735 S Burlington Blvd\, Burlington\, WA\, 98233\, United States
CATEGORIES:Burlington
END:VEVENT
BEGIN:VEVENT
DTSTART;TZID=America/New_York:20260107T160000
DTEND;TZID=America/New_York:20260107T180000
DTSTAMP:20260423T213258
CREATED:20260105T200646Z
LAST-MODIFIED:20260105T202825Z
UID:25221-1767801600-1767808800@www.floyds-cannabis.com
SUMMARY:Hannah Industries Vendor Day - Burlington
DESCRIPTION:Stop by Floyd’s Cannabis Co. Burlington on January 7 from 4–6 PM for a Hannah Industries vendor day featuring Western Culture\, Dawg Star\, Ghost Man\, and Hitters. Meet the team\, explore their products\, and take advantage of exclusive event-only deals.
URL:https://www.floyds-cannabis.com/event/hannah-industries-vendor-day-burlington/
LOCATION:Burlington\, 735 S Burlington Blvd\, Burlington\, WA\, 98233\, United States
CATEGORIES:Burlington
ATTACH;FMTTYPE=image/webp:https://www.floyds-cannabis.com/wp-content/uploads/2026/01/Hannahinfopacket1.webp
END:VEVENT
BEGIN:VEVENT
DTSTART;TZID=America/New_York:20260106T130000
DTEND;TZID=America/New_York:20260106T160000
DTSTAMP:20260423T213258
CREATED:20251231T010832Z
LAST-MODIFIED:20251231T010832Z
UID:24598-1767704400-1767715200@www.floyds-cannabis.com
SUMMARY:Journeyman Vendor Day - Burlington
DESCRIPTION:Stop by Floyd’s Cannabis Co. Burlington on January 6 from 1–4 PM for a special Journeyman vendor day. Meet the team\, discover customer favorites\, and enjoy exclusive event pricing.
URL:https://www.floyds-cannabis.com/event/journeyman-vendor-day-burlington/
LOCATION:Burlington\, 735 S Burlington Blvd\, Burlington\, WA\, 98233\, United States
CATEGORIES:Burlington
END:VEVENT
BEGIN:VEVENT
DTSTART;TZID=America/New_York:20260105T150000
DTEND;TZID=America/New_York:20260105T170000
DTSTAMP:20260423T213258
CREATED:20260105T204324Z
LAST-MODIFIED:20260105T204324Z
UID:25252-1767625200-1767632400@www.floyds-cannabis.com
SUMMARY:Ceres Vendor Day - Burlington
DESCRIPTION:Join Floyd’s Cannabis Co. Burlington on January 5 from 3–5 PM for a Ceres Gardens vendor day. Meet the team\, learn about their premium cannabis lineup\, and take advantage of exclusive event-only deals.
URL:https://www.floyds-cannabis.com/event/ceres-vendor-day-burlington/
LOCATION:Burlington\, 735 S Burlington Blvd\, Burlington\, WA\, 98233\, United States
CATEGORIES:Burlington
END:VEVENT
BEGIN:VEVENT
DTSTART;TZID=America/New_York:20251223T150000
DTEND;TZID=America/New_York:20251223T170000
DTSTAMP:20260423T213258
CREATED:20260105T203614Z
LAST-MODIFIED:20260105T203614Z
UID:25238-1766502000-1766509200@www.floyds-cannabis.com
SUMMARY:Fetti Vendor Day - Everett
DESCRIPTION:Visit Floyd’s Cannabis Co. Everett on December 23 from 3–5 PM for a Fetti vendor day. Meet the team\, learn about their latest products\, and take advantage of event-only deals during this special session.
URL:https://www.floyds-cannabis.com/event/fetti-vendor-day-everett/
LOCATION:Everett\, 4218 Rucker Ave\, Everett\, WA\, 98203\, United States
CATEGORIES:Everett
END:VEVENT
BEGIN:VEVENT
DTSTART;TZID=America/New_York:20251220T120000
DTEND;TZID=America/New_York:20251220T150000
DTSTAMP:20260423T213258
CREATED:20260105T203447Z
LAST-MODIFIED:20260105T203447Z
UID:25233-1766232000-1766242800@www.floyds-cannabis.com
SUMMARY:Plaid Jacket Vendor Day - Everett
DESCRIPTION:Stop by Floyd’s Cannabis Co. Everett on December 20 from 12–3 PM for a vendor day with Plaid Jacket and Flipside. Meet the teams\, discover their craft cannabis lineup\, and take advantage of exclusive event-only deals.
URL:https://www.floyds-cannabis.com/event/plaid-jacket-vendor-day-everett/
LOCATION:Everett\, 4218 Rucker Ave\, Everett\, WA\, 98203\, United States
CATEGORIES:Everett
ATTACH;FMTTYPE=image/webp:https://www.floyds-cannabis.com/wp-content/uploads/2026/01/7.21.25PLAIDJACKETSMSIMAGES-01.webp
END:VEVENT
BEGIN:VEVENT
DTSTART;TZID=America/New_York:20251219T150000
DTEND;TZID=America/New_York:20251219T180000
DTSTAMP:20260423T213258
CREATED:20260105T203725Z
LAST-MODIFIED:20260105T204025Z
UID:25241-1766156400-1766167200@www.floyds-cannabis.com
SUMMARY:Ooowee Vendor Day - Everett
DESCRIPTION:Join Floyd’s Cannabis Co. Everett on December 19 from 3–6 PM for an Ooowee vendor day. Meet the team\, discover their infused product lineup\, and take advantage of event-only deals while you shop. \nhttps://www.instagram.com/oooweefam/
URL:https://www.floyds-cannabis.com/event/ooowee-vendor-day-everett/
LOCATION:Everett\, 4218 Rucker Ave\, Everett\, WA\, 98203\, United States
CATEGORIES:Everett
ATTACH;FMTTYPE=image/webp:https://www.floyds-cannabis.com/wp-content/uploads/2026/01/IMG_3756.webp
END:VEVENT
BEGIN:VEVENT
DTSTART;TZID=America/New_York:20251218T150000
DTEND;TZID=America/New_York:20251218T180000
DTSTAMP:20260423T213258
CREATED:20260105T204142Z
LAST-MODIFIED:20260105T204142Z
UID:25249-1766070000-1766080800@www.floyds-cannabis.com
SUMMARY:Swell Vendor Day - Everett
DESCRIPTION:Stop by Floyd’s Cannabis Co. Everett on December 18 from 3–6 PM for a Swell vendor day. Meet the Swell team\, learn about their product lineup\, and take advantage of event-only deals.
URL:https://www.floyds-cannabis.com/event/swell-vendor-day-everett/
LOCATION:Everett\, 4218 Rucker Ave\, Everett\, WA\, 98203\, United States
CATEGORIES:Everett
END:VEVENT
BEGIN:VEVENT
DTSTART;TZID=America/New_York:20251212T120000
DTEND;TZID=America/New_York:20251212T130000
DTSTAMP:20260423T213258
CREATED:20260105T194456Z
LAST-MODIFIED:20260105T195055Z
UID:25206-1765540800-1765544400@www.floyds-cannabis.com
SUMMARY:Lunar Haze Vendor Day - Everett
DESCRIPTION:Stop by Floyd’s Cannabis Co. Everett on December 10 from 12–3 PM for a Lunar Haze vendor day. Meet the team\, check out their top products\, and take advantage of exclusive event-only deals. \nhttps://www.instagram.com/oooweefam/
URL:https://www.floyds-cannabis.com/event/lunar-haze-vendor-day-everett/
LOCATION:Everett\, 4218 Rucker Ave\, Everett\, WA\, 98203\, United States
CATEGORIES:Everett
ATTACH;FMTTYPE=image/jpeg:https://www.floyds-cannabis.com/wp-content/uploads/2026/01/DSCF6262.jpg
END:VEVENT
BEGIN:VEVENT
DTSTART;TZID=America/New_York:20251210T150000
DTEND;TZID=America/New_York:20251210T170000
DTSTAMP:20260423T213258
CREATED:20260105T203202Z
LAST-MODIFIED:20260105T203202Z
UID:25223-1765378800-1765386000@www.floyds-cannabis.com
SUMMARY:Optimum Vendor Day - Everett
DESCRIPTION:Stop by Floyd’s Cannabis Co. Everett on December 12 from 2–5 PM for a dual vendor day with Optimum and Farmers Market. Meet the teams\, discover customer favorites\, and take advantage of event-only deals. \nhttps://www.instagram.com/oooweefam/
URL:https://www.floyds-cannabis.com/event/optimum-vendor-day-everett/
LOCATION:Everett\, 4218 Rucker Ave\, Everett\, WA\, 98203\, United States
CATEGORIES:Everett
ATTACH;FMTTYPE=image/webp:https://www.floyds-cannabis.com/wp-content/uploads/2026/01/IMG_3754.webp
END:VEVENT
BEGIN:VEVENT
DTSTART;TZID=America/New_York:20251205T150000
DTEND;TZID=America/New_York:20251205T170000
DTSTAMP:20260423T213258
CREATED:20251231T005435Z
LAST-MODIFIED:20251231T005540Z
UID:24594-1764946800-1764954000@www.floyds-cannabis.com
SUMMARY:Regulator Vendor Day - Burlington
DESCRIPTION:Join us at Floyd’s Cannabis Co. Burlington on Thursday\, December 5th from 3–5 PM for a special Vendor Day showcasing Washington-grown cannabis and the people behind the products. This event brings customers closer to the farms and brands that help shape the PNW cannabis community\, offering insight into cultivation practices\, strain development\, and the unique craft approach behind the products we carry. \nWhether you’re a longtime Burlington regular or visiting from nearby Skagit County\, this Vendor Day is a chance to connect directly with knowledgeable brand representatives\, learn more about their process\, and explore the quality and craftsmanship that set Washington cannabis apart.
URL:https://www.floyds-cannabis.com/event/regulator-vendor-day-burlington/
LOCATION:Burlington\, 735 S Burlington Blvd\, Burlington\, WA\, 98233\, United States
CATEGORIES:Burlington
END:VEVENT
BEGIN:VEVENT
DTSTART;TZID=America/New_York:20251121T140000
DTEND;TZID=America/New_York:20251121T160000
DTSTAMP:20260423T213258
CREATED:20251231T004334Z
LAST-MODIFIED:20251231T005551Z
UID:24590-1763733600-1763740800@www.floyds-cannabis.com
SUMMARY:Dankhouse Vendor Day - Burlington
DESCRIPTION:Join us at Floyd’s Cannabis Co. Burlington on Thursday\, November 21st from 2–4 PM for a special Dankhouse Vendor Day. This is a great opportunity to meet the team behind Dankhouse\, learn more about their cultivation approach\, and explore the craftsmanship that goes into their Washington-grown cannabis. \nWhether you’re curious about genetics\, growing methods\, or the story behind the brand\, our staff and the Dankhouse team will be on-site to answer questions and share insight into what makes their products unique.
URL:https://www.floyds-cannabis.com/event/dankhouse-vendor-day-burlington/
LOCATION:Burlington\, 735 S Burlington Blvd\, Burlington\, WA\, 98233\, United States
CATEGORIES:Burlington
END:VEVENT
BEGIN:VEVENT
DTSTART;TZID=America/New_York:20251120T160000
DTEND;TZID=America/New_York:20251120T180000
DTSTAMP:20260423T213258
CREATED:20251231T003616Z
LAST-MODIFIED:20251231T005556Z
UID:24587-1763654400-1763661600@www.floyds-cannabis.com
SUMMARY:Optimum Vendor Day - Burlington
DESCRIPTION:Join us at Floyd’s Cannabis Co. on Wednesday\, November 20th from 4–6 PM for an exclusive Vendor Day with Optimum Extracts. Discover premium Washington-made concentrates\, cartridges\, and oils crafted for true cannabis enthusiasts. Meet the team behind Optimum Extracts\, learn more about their process\, and enjoy special in-store deals available only during the event.
URL:https://www.floyds-cannabis.com/event/optimum-vendor-day-burlington/
LOCATION:Burlington\, 735 S Burlington Blvd\, Burlington\, WA\, 98233\, United States
CATEGORIES:Burlington
END:VEVENT
END:VCALENDAR