BEGIN:VCALENDAR
VERSION:2.0
PRODID:-//Floyd&#039;s Cannabis - ECPv6.15.17.1//NONSGML v1.0//EN
CALSCALE:GREGORIAN
METHOD:PUBLISH
X-ORIGINAL-URL:https://www.floyds-cannabis.com
X-WR-CALDESC:Events for Floyd&#039;s Cannabis
REFRESH-INTERVAL;VALUE=DURATION:PT1H
X-Robots-Tag:noindex
X-PUBLISHED-TTL:PT1H
BEGIN:VTIMEZONE
TZID:America/Los_Angeles
BEGIN:DAYLIGHT
TZOFFSETFROM:-0800
TZOFFSETTO:-0700
TZNAME:PDT
DTSTART:20250309T100000
END:DAYLIGHT
BEGIN:STANDARD
TZOFFSETFROM:-0700
TZOFFSETTO:-0800
TZNAME:PST
DTSTART:20251102T090000
END:STANDARD
BEGIN:DAYLIGHT
TZOFFSETFROM:-0800
TZOFFSETTO:-0700
TZNAME:PDT
DTSTART:20260308T100000
END:DAYLIGHT
BEGIN:STANDARD
TZOFFSETFROM:-0700
TZOFFSETTO:-0800
TZNAME:PST
DTSTART:20261101T090000
END:STANDARD
BEGIN:DAYLIGHT
TZOFFSETFROM:-0800
TZOFFSETTO:-0700
TZNAME:PDT
DTSTART:20270314T100000
END:DAYLIGHT
BEGIN:STANDARD
TZOFFSETFROM:-0700
TZOFFSETTO:-0800
TZNAME:PST
DTSTART:20271107T090000
END:STANDARD
END:VTIMEZONE
BEGIN:VEVENT
DTSTART;TZID=America/Los_Angeles:20260416T173000
DTEND;TZID=America/Los_Angeles:20260416T193000
DTSTAMP:20260423T162906
CREATED:20260410T175213Z
LAST-MODIFIED:20260410T175309Z
UID:648527-1776360600-1776367800@www.floyds-cannabis.com
SUMMARY:Exciting Sungrown Vendor Day @ Pullman Floyd's on 4/16 - 5:30-7:30pm!
DESCRIPTION:Please join us for Sungrown Vendor Day on April 16th!!\n  \nPlease accept our invitation for a relaxed and engaging Floyds Pullman Sungrown Vendor Day at Floyd’s as we host a Sungrown Vendor Day from 5:30 PM to 7:30 PM. This in-store evening event is a great opportunity to connect with a highly renowned Washington cannabis farm\, explore products\, and enjoy a welcoming\, community-focused experience. \nAt Floyds Pullman\, we aim to create a space where guests feel comfortable\, informed\, and supported in their cannabis experience. Whether you’re a regular or visiting for the first time\, this Sungrown Vendor Day offers a chance to learn more about the products we carry and the people behind them. \n  \nYou may know them best as Full Spec\, Thrills\, Drops & PICC! With their array of brands\, there’s always an option for everyone!! \n \n  \n  \n  \n  \n  \n  \n“In an era where simplicity and elegance define innovation\, our single-source extraction process emerges as a beacon\, masterfully harmonizing the full spectrum of the cannabis plant. We harness all of the natural terpenes\, each with its unique characteristics\, to deliver an unparalleled vaping experience. \n“We feel like this is the technological edge of cannabis…The product experience is really kind of paradigm-shifting for a cartridge.” Marcus Naramore\, CRO \nFull Spec presents a curated suite of terpene-rich concentrates that champion the plant in its entirety\, embracing all it has to offer. Our commitment to authenticity is unwavering. Full Spec stands as a testament to single-source dedication: every element that enters our extraction process is nurtured in our farms. It’s not just about extraction; it’s a journey that begins the moment our plants touch the soil. \nFull Spec. We control the full spectrum.” \n  \n  \n  \nSungrown Vendor Day Event Details\nEvent: Floyds Pullman Vendor Day with Sungrown!Location: Floyd’s PullmanDate: April 16thTime: 5:30-7:30 PM \nThis event is open to adults 21+ only with valid ID. Cannabis products may only be purchased and possessed by adults 21 years of age or older in accordance with Washington State law.
URL:https://www.floyds-cannabis.com/event/sungrown-vendor-day-pullman-floyds/
LOCATION:Pullman\, 5952 Airport Rd\, Pullman\, WA\, 99163\, United States
CATEGORIES:Pullman
END:VEVENT
END:VCALENDAR