BEGIN:VCALENDAR
VERSION:2.0
PRODID:-//Floyd&#039;s Cannabis - ECPv6.15.17.1//NONSGML v1.0//EN
CALSCALE:GREGORIAN
METHOD:PUBLISH
X-WR-CALNAME:Floyd&#039;s Cannabis
X-ORIGINAL-URL:https://www.floyds-cannabis.com
X-WR-CALDESC:Events for Floyd&#039;s Cannabis
REFRESH-INTERVAL;VALUE=DURATION:PT1H
X-Robots-Tag:noindex
X-PUBLISHED-TTL:PT1H
BEGIN:VTIMEZONE
TZID:America/Los_Angeles
BEGIN:DAYLIGHT
TZOFFSETFROM:-0800
TZOFFSETTO:-0700
TZNAME:PDT
DTSTART:20250309T100000
END:DAYLIGHT
BEGIN:STANDARD
TZOFFSETFROM:-0700
TZOFFSETTO:-0800
TZNAME:PST
DTSTART:20251102T090000
END:STANDARD
BEGIN:DAYLIGHT
TZOFFSETFROM:-0800
TZOFFSETTO:-0700
TZNAME:PDT
DTSTART:20260308T100000
END:DAYLIGHT
BEGIN:STANDARD
TZOFFSETFROM:-0700
TZOFFSETTO:-0800
TZNAME:PST
DTSTART:20261101T090000
END:STANDARD
BEGIN:DAYLIGHT
TZOFFSETFROM:-0800
TZOFFSETTO:-0700
TZNAME:PDT
DTSTART:20270314T100000
END:DAYLIGHT
BEGIN:STANDARD
TZOFFSETFROM:-0700
TZOFFSETTO:-0800
TZNAME:PST
DTSTART:20271107T090000
END:STANDARD
END:VTIMEZONE
BEGIN:VEVENT
DTSTART;TZID=America/Los_Angeles:20260410T130000
DTEND;TZID=America/Los_Angeles:20260410T150000
DTSTAMP:20260423T132759
CREATED:20260409T193558Z
LAST-MODIFIED:20260409T194259Z
UID:639432-1775826000-1775833200@www.floyds-cannabis.com
SUMMARY:Exciting Floyds Pullman Vendor Day with Spark Industries on April 10th from 1pm-3pm!
DESCRIPTION:Join us for a wonderful Floyds Pullman Vendor Day with Spark Industries!\nPlease accept our invitation for a relaxed and engaging Floyds Pullman Vendor Day at Floyd’s as we host Spark Industries Vendor Day from 1PM to 3PM. This in-store evening event is a great opportunity to connect with a highly renowned Washington cannabis farm\, explore products\, and enjoy a welcoming\, community-focused experience. \nAt Floyds Pullman\, we aim to create a space where guests feel comfortable\, informed\, and supported in their cannabis experience. Whether you’re a regular or visiting for the first time\, this Vendor Day offers a chance to learn more about the products we carry and the people behind them. \nWhy We Love Spark Industries!!\n“We don’t cut any corners when it comes to cure time; we have found that long cures are paramount for ideal smokability.” \nAnd you can tell! One of our favorite things about Plaid Jacket flower and prerolls is the high-quality product that you’re receiving. You can always count on it smelling like the delicious weed you count on!! \n“All of our flower is sorted\, weighed\, and packaged by our team’s gentle hands. This helps maintain the maximum number of cannabinoids and preserve the structure of our trichomes. All of our joints are also rolled by hand.” \nJoints that are hand-rolled are some of our favorites! They smoke so smooth\, and you don’t have to worry about the smokeability\, clearing up space to enjoy yourself to the MAX!! \n  \n\n  \n\n  \n“At Plaid Jacket\, we cultivate happiness. We are dedicated to producing the highest quality cannabis products by first nurturing a culture of wellbeing and prosperity within our company\, our industry\, and our community. \nOur goal is simple:  Quality above all. \nWE BELIEVE THAT WE CAN PRODUCE THE HIGHEST QUALITY AND MOST CONSISTENT CANNABIS BY IMPLEMENTING A DELICATE BALANCE OF TECHNOLOGY AND NATURE. OUR TEAM CONSISTS OF SOME OF THE INDUSTRIES’ BRIGHTEST MINDS IN ENGINEERING AND BIOSCIENCE AS WELL AS HIGHLY EXPERIENCED CANNABIS GROWERS. THIS DIVERSE BLEND OF EXPERTISE GIVES US THE BEST OF BOTH WORLDS\, AS WE VIEW CULTIVATION AS BOTH A SCIENCE AND AN ART. \nOUR FACILITY was purpose-built from the ground up\, with quality and consistency at the forefront of all aspects of design.  Our industry-leading environmental control and data acquisition system gives our garden team both real-time and historical data from which decisions can be confidently made. “ \n  \n  \n\n\n\n\n\n\n“The real ones know. Flip Side isn’t about stats\, percentages\, or overthinking it. It’s about how it hits\, how it tastes\, and how it feels in the moment. \nWe make bold\, flavor-packed 510 carts and disposables with over 90% THC\, powered by natural botanical terpenes. \nNo fillers\, no weird additives\, just smooth\, juicy hits that actually deliver. This isn’t background noise. This is the main event.” \n\nA Welcoming Floyds Pullman Vendor Day Experience\nVendor days at Floyd’s are designed to bring together the local cannabis community in a comfortable and engaging setting. This Floyds Pullman Vendor Day offers more than just a typical store visit—it’s an opportunity to connect with brands\, learn something new\, and enjoy a more personal retail experience. \nWhether you plan to stop in briefly or spend some time exploring\, we invite you to join us for an evening focused on conversation\, discovery\, and community. \nIf you’ve been looking for a Floyds Pullman Vendor Day that’s informative\, approachable\, and easy to attend\, this is a great opportunity to experience it firsthand. \n  \n  \nEvent Details\nEvent: Floyds Pullman Vendor Day with Spark Industries!Location: Floyd’s PullmanDate: April 10thTime: 1 PM – 3 PM \nThis event is open to adults 21+ only with valid ID. Cannabis products may only be purchased and possessed by adults 21 years of age or older in accordance with Washington State law.
URL:https://www.floyds-cannabis.com/event/floyds-pullman-vendor-day/
LOCATION:Pullman\, 5952 Airport Rd\, Pullman\, WA\, 99163\, United States
CATEGORIES:Pullman
END:VEVENT
BEGIN:VEVENT
DTSTART;TZID=America/Los_Angeles:20260410T140000
DTEND;TZID=America/Los_Angeles:20260410T170000
DTSTAMP:20260423T132759
CREATED:20260224T005702Z
LAST-MODIFIED:20260224T005944Z
UID:336332-1775829600-1775840400@www.floyds-cannabis.com
SUMMARY:Skagit Organics Vendor Day at Floyd’s Burlington – April 10\, 2–5PM
DESCRIPTION:Skagit Organics Vendor Day at Floyd’s Burlington – April 10\, 2–5PM\n\nDiscover Skagit Organics at Floyd’s Burlington\nOn April 10 from 2–5 PM\, Floyd’s Burlington welcomes Skagit Organics for an in-store vendor day celebrating premium\, DOH+ tested cannabis products. This is your chance to connect with the Skagit team\, learn about their award-winning cannabis\, and explore flower\, concentrates\, vape cartridges\, edibles\, RSO\, and topicals designed to elevate your experience. \nThe Skagit Organics Vendor Day is perfect for anyone looking to understand cannabis beyond labels. Whether you’re seeking therapeutic benefits\, unique terpene profiles\, or just the cleanest\, high-quality cannabis in Washington\, you’ll leave with knowledge and firsthand experience of their products. \nAbout Skagit Organics: A Commitment to Quality and Community\nSkagit Organics is an award-winning cannabis brand known for its clean\, consistent products and dedication to patient education. With decades of experience and leadership in Washington’s cannabis community\, Skagit Organics emphasizes quality\, safety\, and transparency. \nFrom DOH+ tested flower and concentrates to RSO\, edibles\, and vape cartridges\, every product is crafted with the patient and consumer in mind. Their elevated testing standard\, DOH+\, goes beyond Washington State’s Department of Health regulations for terpenes and pesticides\, ensuring you experience the highest level of safety and consistency. \nSkagit Organics is also actively engaged in advocacy through The Cannabis Alliance\, the largest trade group in the state\, where they contribute to shaping cannabis policy and improving patient access. Their commitment to the community extends to patient consultations and education\, providing guidance for those navigating medical cannabis in Washington. \nExplore Skagit Organics Products\nSome of the products you’ll get to explore during the vendor day include: \n\nPremium Flower: Carefully cultivated with organic living soil techniques and advanced DOH+ testing\nConcentrates & RSO: Highly potent\, clean extracts for medical and recreational use\nVape Cartridges & Disposables: Full spectrum and terpene-rich oils\nEdibles & Topicals: Handcrafted products designed for flavor\, effect\, and wellness\n\nPopular Strains with Terpene Profiles & Effects\nSkagit Organics is known for its exceptional strain selection\, including ATF\, Durban Poison\, Sunshine Daydream\, Blueberry Trainwreck\, Peaches & Diesel\, Funnel Cake\, Peyote Snacks\, Primus\, Dank Rainbow\, Slap-n-Tickle\, and more. \n\nATF: Citrus-forward terpenes\, euphoric uplift\, creative energy\nBlueberry Trainwreck: Sweet berry aroma\, relaxing body effect\, calm and happy mood\nPeaches & Diesel: Fruity\, diesel undertones\, energizing\, social\nFunnel Cake: Dessert-inspired terpenes\, balanced hybrid\, happy and relaxed mood\n\nEach strain offers a unique combination of aroma\, flavor\, and effects\, giving attendees a hands-on opportunity to explore the full spectrum of cannabis experiences. \nWhy Attend Skagit Organics Vendor Day?\nJoin the Skagit Organics team at Floyd’s Burlington to explore their award-winning cannabis. You’ll get hands-on experience with DOH+ flower\, concentrates\, RSO\, edibles\, vape cartridges\, and topicals. Learn about terpene profiles\, how they influence flavor and effects\, and ask questions about how to optimize your cannabis experience. Whether you’re curious about therapeutic uses or simply want to taste premium cannabis\, this vendor day is informative\, interactive\, and fun. \n\n\nMeet the Skagit Organics team and ask questions\n\n\nLearn how DOH+ testing and terpene profiles influence product quality\n\n\nExplore a wide variety of flower\, concentrates\, edibles\, and RSO\n\n\nGain knowledge about patient-focused cannabis use in Washington State\n\n\nThis is a fun\, educational\, and interactive experience\, perfect for both new and experienced cannabis users. \nEvent Details\nEvent: Skagit Organics Vendor DayLocation: Floyd’s Cannabis Co. – BurlingtonDate: April 10\, 2026Time: 2 PM – 5 PM \nThis event is held at a licensed Washington State cannabis retailer. Products are available only to adults 21+ with valid ID. \n 
URL:https://www.floyds-cannabis.com/event/skagit-organics-vendor-day-burlington-2/
LOCATION:Burlington\, 735 S Burlington Blvd\, Burlington\, WA\, 98233\, United States
CATEGORIES:Burlington
ATTACH;FMTTYPE=image/png:https://www.floyds-cannabis.com/wp-content/uploads/2026/02/Skagit-Logo-bottom.png
END:VEVENT
END:VCALENDAR